0.8504580000
0.0000000000
0.0000000000
-0.8504580000
2563667.3761759955
4239142.1210855851
