0.8468200000
0.0000000000
0.0000000000
-0.8468200000
2490734.8979584211
4227936.9378950298
