0.8468110000
0.0000000000
0.0000000000
-0.8468110000
2498036.7636717740
4227913.9390466642
