0.8465330000
0.0000000000
0.0000000000
-0.8465330000
2498022.0241818964
4222364.8511147853
