0.8443430000
0.0000000000
0.0000000000
-0.8443430000
2527251.0407240996
4216801.1448197234
