0.8481460000
0.0000000000
0.0000000000
-0.8481460000
2556429.2888586838
4228002.6798300259
