0.8487430000
0.0000000000
0.0000000000
-0.8487430000
2556503.3966846922
4211357.9854540871
