0.8459430000
0.0000000000
0.0000000000
-0.8459430000
2512605.9135418222
4189050.6929466766
