0.8487850000
0.0000000000
0.0000000000
-0.8487850000
2549231.0997654307
4200225.6777874613
