0.8466780000
0.0000000000
0.0000000000
-0.8466780000
2505258.6807376612
4183512.8035053229
