0.8658610000
0.0000000000
0.0000000000
-0.8658610000
2505229.9649210400
4166870.0663250042
