0.8469100000
0.0000000000
0.0000000000
-0.8469100000
2512595.6596240648
4177956.0732332747
