0.8468450000
0.0000000000
0.0000000000
-0.8468450000
2519943.1981386887
4183503.9161430732
