0.8484860000
0.0000000000
0.0000000000
-0.8484860000
2534615.7550964812
4183530.3049979438
