0.8477140000
0.0000000000
0.0000000000
-0.8477140000
2519942.8546991879
4177955.9255144196
