0.8464540000
0.0000000000
0.0000000000
-0.8464540000
2490496.6744925845
4161361.8262725682
