0.8417990000
0.0000000000
0.0000000000
-0.8417990000
2505219.8209008104
4161323.3839321858
