0.8452670000
0.0000000000
0.0000000000
-0.8452670000
2497844.3461670531
4155791.9780904399
