0.8676370000
0.0000000000
0.0000000000
-0.8676370000
2512567.1337212976
4144670.5807388900
