0.544884
0.000
0.000
-0.544884
2300745.602
3934941.701
