0.85042949339214
0.00000000000000
0.00000000000000
-0.85042949339214
2527233.91309899510000
4183563.69896512990000
