0.84989651122464
0.00000000000000
0.00000000000000
-0.84989651122464
2527248.81562054810000
4166920.65910228340000
