0.84792165636415
0.00000000000000
0.00000000000000
-0.84792165636415
2527252.47442407300000
4161392.68524443270000
