0.50799687931996
0.00000000000000
0.00000000000000
-0.50799687931996
2300551.08
4219753.90
