0.50801011178869
0.00000000000000
0.00000000000000
-0.50801011178869
2307871.36
4219550.00
