0.50839943520640
0.00000000000000
0.00000000000000
-0.50839943520640
2322627.85
4224730.62
