0.50817284652375
0.00000000000000
0.00000000000000
-0.50817284652375
2322497.39
4219177.20
