0.50815127414592
0.00000000000000
0.00000000000000
-0.50815127414592
2329770.60
4219078.09
