0.50797866891131
0.00000000000000
0.00000000000000
-0.50797866891131
2300234.15
4208686.06
