0.50796801846771
0.00000000000000
0.00000000000000
-0.50796801846771
2300042.57
4203192.25
