0.50797927696650
0.00000000000000
0.00000000000000
-0.50797927696650
2307189.59
4197504.04
