0.50793187640158
0.00000000000000
0.00000000000000
-0.50793187640158
2373277.18
4195944.72
