0.50774583619085
0.00000000000000
0.00000000000000
-0.50774583619085
2373175.84
4190397.85
