0.50787569428636
0.00000000000000
0.00000000000000
-0.50787569428636
2380505.28
4190270.26
