0.50760990707190
0.00000000000000
0.00000000000000
-0.50760990707190
2432073.86
4206165.76
