0.50641058693819
0.00000000000000
0.00000000000000
-0.50641058693819
2454043.34
4205958.46
