0.50720562423869
0.00000000000000
0.00000000000000
-0.50720562423869
2453910.04
4189318.04
