0.50828220435109
0.00000000000000
0.00000000000000
-0.50828220435109
2460809.40
4195060.31
