0.50770048859242
0.00000000000000
0.00000000000000
-0.50770048859242
2373099.63
4184809.53
