0.50764827887870
0.00000000000000
0.00000000000000
-0.50764827887870
2387784.43
4184562.35
