0.50756673808233
0.00000000000000
0.00000000000000
-0.50756673808233
2387606.49
4173465.37
