0.50753738058029
0.00000000000000
0.00000000000000
-0.50753738058029
2387519.56
4167916.81
