0.84973616013490
0.00000000000000
0.00000000000000
-0.84973616013490
2477750.58325609290000
4272418.66144752870000
