0.84980179369703
0.00000000000000
0.00000000000000
-0.84980179369703
2514083.21547270100000
4253861.94255162870000
