0.84715248793289
0.00000000000000
0.00000000000000
-0.84715248793289
2541770.62169827150000
4233508.57656030730000
