0.84697601172711
0.00000000000000
0.00000000000000
-0.84697601172711
2556332.75621786710000
4239183.22611313870000
