0.84686783985005
0.00000000000000
0.00000000000000
-0.84686783985005
2556348.98463191420000
4233595.06536257450000
