0.84804258166055
0.00000000000000
0.00000000000000
-0.84804258166055
2563631.24690495660000
4233640.18351923490000
