0.50820273977435
0.00000000000000
0.00000000000000
-0.50820273977435
2307724.96
4213995.98
