0.50771988886604
0.00000000000000
0.00000000000000
-0.50771988886604
2366584.20
4229335.56
